BEGIN:VCALENDAR
VERSION:2.0
PRODID:-//demosphere.net//NONSGML kigkonsult.se iCalcreator 2.22.1//
METHOD:REQUEST
X-WR-TIMEZONE:Europe/Athens
BEGIN:VEVENT
UID:https://safe.kinimatorama.net/event/189708
DTSTAMP:20260426T090000Z
DESCRIPTION:περισσότερες πληροφορίες: https://safe.kinimatorama.net/event/1
 89708 
DTSTART:20260426T090000Z
DTEND:20260426T100000Z
GEO:+38.151803;+21.419241
LOCATION:Άραξος\, \nαεροπορική βάση Άραξου
SUMMARY:Αντιπολεμική/ αντι-ιμπεριαλιστική διαδήλωση στην αεροπορική βάση το
 υ Άραξου
URL:https://safe.kinimatorama.net/event/189708
END:VEVENT
END:VCALENDAR
