BEGIN:VCALENDAR
VERSION:2.0
PRODID:-//demosphere.net//NONSGML kigkonsult.se iCalcreator 2.22.1//
METHOD:REQUEST
X-WR-TIMEZONE:Europe/Athens
BEGIN:VEVENT
UID:https://safe.kinimatorama.net/event/189710
DTSTAMP:20260424T173000Z
DESCRIPTION:περισσότερες πληροφορίες: https://safe.kinimatorama.net/event/1
 89710 
DTSTART:20260424T173000Z
DTEND:20260424T183000Z
GEO:+40.937418;+24.401595
LOCATION:Καβάλα\, \nΑυτόνομο Στέκι Καβάλας \nΦιλίππου 46 \n(πίσω από τον Αϊ
  Γιάννη)
SUMMARY:Βιβλιοπαρουσίαση: ”Δαιμονισμένοι και μηδενιστές\, ο πολιτικός Ντοστ
 ογιεφσκι'
URL:https://safe.kinimatorama.net/event/189710
END:VEVENT
END:VCALENDAR
