BEGIN:VCALENDAR
VERSION:2.0
PRODID:-//demosphere.net//NONSGML kigkonsult.se iCalcreator 2.22.1//
METHOD:REQUEST
X-WR-TIMEZONE:Europe/Athens
BEGIN:VEVENT
UID:https://safe.kinimatorama.net/event/189763
DTSTAMP:20260422T160000Z
DESCRIPTION:περισσότερες πληροφορίες: https://safe.kinimatorama.net/event/1
 89763 
DTSTART:20260422T160000Z
DTEND:20260422T170000Z
GEO:+37.988143;+23.753997
LOCATION:Αθήνα\, \nΚοινωνικό Κέντρο Κοινότητας Κατειλημμένων Προσφυγικών \n
 Λεωφόρος Αλεξάνδρας 165 και Δέγλερη \n(250μ. από σταθμό Μετρό ΑΜΠΕΛΟΚΗΠΟΙ)
SUMMARY:Ανοιχτή συνέλευση ενάντια στην κανονικοποίηση της σιωνιστικής τρομο
 κρατίας
URL:https://safe.kinimatorama.net/event/189763
END:VEVENT
END:VCALENDAR
