BEGIN:VCALENDAR
VERSION:2.0
PRODID:-//demosphere.net//NONSGML kigkonsult.se iCalcreator 2.22.1//
METHOD:REQUEST
X-WR-TIMEZONE:Europe/Athens
BEGIN:VEVENT
UID:https://safe.kinimatorama.net/event/189770
DTSTAMP:20260430T060000Z
DESCRIPTION:περισσότερες πληροφορίες: https://safe.kinimatorama.net/event/1
 89770 
DTSTART:20260430T060000Z
DTEND:20260430T070000Z
GEO:+37.995376;+23.743086
LOCATION:Αθήνα\, \nΔικαστήρια Ευελπίδων
SUMMARY:[Αθήνα] Εφετείο για την ανακατάληψη της Ματρόζου 45
URL:https://safe.kinimatorama.net/event/189770
END:VEVENT
END:VCALENDAR
