BEGIN:VCALENDAR
VERSION:2.0
PRODID:-//demosphere.net//NONSGML kigkonsult.se iCalcreator 2.22.1//
METHOD:REQUEST
X-WR-TIMEZONE:Europe/Athens
BEGIN:VEVENT
UID:https://safe.kinimatorama.net/event/189775
DTSTAMP:20260423T100000Z
DESCRIPTION:περισσότερες πληροφορίες: https://safe.kinimatorama.net/event/1
 89775 
DTSTART:20260423T100000Z
DTEND:20260423T110000Z
GEO:+37.964082;+23.73579
LOCATION:Αθήνα\, \nΑ΄ Νεκροταφείο \nΜετς
SUMMARY:Πολιτική κηδεία της Τάνιας
URL:https://safe.kinimatorama.net/event/189775
END:VEVENT
END:VCALENDAR
