BEGIN:VCALENDAR
VERSION:2.0
PRODID:-//demosphere.net//NONSGML kigkonsult.se iCalcreator 2.22.1//
METHOD:REQUEST
X-WR-TIMEZONE:Europe/Athens
BEGIN:VEVENT
UID:https://safe.kinimatorama.net/event/189782
DTSTAMP:20260425T140000Z
DESCRIPTION:περισσότερες πληροφορίες: https://safe.kinimatorama.net/event/1
 89782 
DTSTART:20260425T140000Z
DTEND:20260425T150000Z
GEO:+40.646569;+22.938883
LOCATION:Θεσσαλονίκη\, \nΚατάληψη Sonuna Kadar \nπιστών 9\, \nΘεσσαλονίκη
SUMMARY:Πολιτική εκδήλωση : To καταληψιακό κίνημα στην ελλάδα (ΑΛΛΑΓΗ ΤΟΠΟΘ
 ΕΣΙΑΣ)
URL:https://safe.kinimatorama.net/event/189782
END:VEVENT
END:VCALENDAR
