BEGIN:VCALENDAR
VERSION:2.0
PRODID:-//demosphere.net//NONSGML kigkonsult.se iCalcreator 2.22.1//
METHOD:REQUEST
X-WR-TIMEZONE:Europe/Athens
BEGIN:VEVENT
UID:https://safe.kinimatorama.net/event/189788
DTSTAMP:20260523T160000Z
DESCRIPTION:περισσότερες πληροφορίες: https://safe.kinimatorama.net/event/1
 89788 
DTSTART:20260523T160000Z
DTEND:20260523T170000Z
GEO:+35.511321;+24.025877
LOCATION:Χανιά\, \nπάρκο Ειρήνης & Φιλίας των λαών
SUMMARY:Ανοιχτή συζήτηση save sougia
URL:https://safe.kinimatorama.net/event/189788
END:VEVENT
END:VCALENDAR
