BEGIN:VCALENDAR
VERSION:2.0
PRODID:-//demosphere.net//NONSGML kigkonsult.se iCalcreator 2.22.1//
METHOD:REQUEST
X-WR-TIMEZONE:Europe/Athens
BEGIN:VEVENT
UID:https://safe.kinimatorama.net/event/189794
DTSTAMP:20260423T170000Z
DESCRIPTION:περισσότερες πληροφορίες: https://safe.kinimatorama.net/event/1
 89794 
DTSTART:20260423T170000Z
DTEND:20260423T180000Z
GEO:+37.992672;+23.728254
LOCATION:Αθήνα\, \nΚατειλημμένο Κοινωνικό Κέντρο 'Ζιζάνια' \nΦερών 30 & Φυλ
 ής \n(2' περπάτημα από ΗΣΑΠ Βικτώρια)
SUMMARY:Μπαρ οικονομικής ενίσχυσης
URL:https://safe.kinimatorama.net/event/189794
END:VEVENT
END:VCALENDAR
