BEGIN:VCALENDAR
VERSION:2.0
PRODID:-//demosphere.net//NONSGML kigkonsult.se iCalcreator 2.22.1//
METHOD:REQUEST
X-WR-TIMEZONE:Europe/Athens
BEGIN:VEVENT
UID:https://safe.kinimatorama.net/event/189799
DTSTAMP:20260424T060000Z
DESCRIPTION:περισσότερες πληροφορίες: https://safe.kinimatorama.net/event/1
 89799 
DTSTART:20260424T060000Z
DTEND:20260424T070000Z
GEO:+37.989263;+23.752484
LOCATION:Αθήνα\, \nΕφετείο Αθηνών \nΛουκάρεως & Αλεξάνδρας \nΑμπελόκηποι \n
 (πλησίον ΜΕΤΡΟ Αμπελοκήπων)
SUMMARY:Δίκη των συλληφθεντων/ισσων της πορείας αλληλεγγύης στους Δ.Χ. και 
 Β.Σ.
URL:https://safe.kinimatorama.net/event/189799
END:VEVENT
END:VCALENDAR
