BEGIN:VCALENDAR
VERSION:2.0
PRODID:-//demosphere.net//NONSGML kigkonsult.se iCalcreator 2.22.1//
METHOD:REQUEST
X-WR-TIMEZONE:Europe/Athens
BEGIN:VEVENT
UID:https://safe.kinimatorama.net/event/189817
DTSTAMP:20260423T160000Z
DESCRIPTION:περισσότερες πληροφορίες: https://safe.kinimatorama.net/event/1
 89817 
DTSTART:20260423T160000Z
DTEND:20260423T170000Z
GEO:+38.235954;+21.737558
LOCATION:Πάτρα\, \nΕλευθεριακό - Κοινοτικό Στέκι ''Αντάμα'' \nΑγίας Τριάδος
  47 & Βορείου Ηπείρου \nΑγία Τριάδα
SUMMARY:Αυτοδιαχειριζόμενο καφενείο στο Ελευθεριακό - Κοινοτικό στέκι ΑΝΤΑΜ
 Α
URL:https://safe.kinimatorama.net/event/189817
END:VEVENT
END:VCALENDAR
