BEGIN:VCALENDAR
VERSION:2.0
PRODID:-//demosphere.net//NONSGML kigkonsult.se iCalcreator 2.22.1//
METHOD:REQUEST
X-WR-TIMEZONE:Europe/Athens
BEGIN:VEVENT
UID:https://safe.kinimatorama.net/event/189823
DTSTAMP:20260425T120000Z
DESCRIPTION:περισσότερες πληροφορίες: https://safe.kinimatorama.net/event/1
 89823 
DTSTART:20260425T120000Z
DTEND:20260425T130000Z
GEO:+40.638038;+22.938631
LOCATION:Θεσσαλονίκη\, \nΚοινωνικό Κέντρο-Στέκι Μεταναστ(ρι)ών \nΒαλαωρίτου
  20\, 6ος όροφος
SUMMARY:3η Ανοιχτή Συνέλευση για το 10ο Αυτοοργανωμένο Thessaloniki Pride
URL:https://safe.kinimatorama.net/event/189823
END:VEVENT
END:VCALENDAR
