BEGIN:VCALENDAR
VERSION:2.0
PRODID:-//demosphere.net//NONSGML kigkonsult.se iCalcreator 2.22.1//
METHOD:REQUEST
X-WR-TIMEZONE:Europe/Athens
BEGIN:VEVENT
UID:https://safe.kinimatorama.net/event/189828
DTSTAMP:20260503T120000Z
DESCRIPTION:περισσότερες πληροφορίες: https://safe.kinimatorama.net/event/1
 89828 
DTSTART:20260503T120000Z
DTEND:20260503T130000Z
GEO:+40.633351;+22.950812
LOCATION:Θεσσαλονίκη\, \nΕλευθεριακό Κέντρο No Pasarán \nΙασωνίδου 4 & Αρρι
 ανού
SUMMARY:Ρεμπέτικο γλέντι για δικαστικά έξοδα υπόθεσης έμφυλης βίας με τις Γ
 ιάν Ντιριαβ
URL:https://safe.kinimatorama.net/event/189828
END:VEVENT
END:VCALENDAR
