BEGIN:VCALENDAR
VERSION:2.0
PRODID:-//demosphere.net//NONSGML kigkonsult.se iCalcreator 2.22.1//
METHOD:REQUEST
X-WR-TIMEZONE:Europe/Athens
BEGIN:VEVENT
UID:https://safe.kinimatorama.net/event/189838
DTSTAMP:20260423T180000Z
DESCRIPTION:περισσότερες πληροφορίες: https://safe.kinimatorama.net/event/1
 89838 
DTSTART:20260423T180000Z
DTEND:20260423T190000Z
GEO:+39.363688;+22.943247
LOCATION:Βόλος\, \nΛέσχη Εργαζομένων και Νεολαίας Βόλου \nΜεταμορφώσεως 19
SUMMARY:Μπαρ
URL:https://safe.kinimatorama.net/event/189838
END:VEVENT
END:VCALENDAR
