BEGIN:VCALENDAR
VERSION:2.0
PRODID:-//demosphere.net//NONSGML kigkonsult.se iCalcreator 2.22.1//
METHOD:REQUEST
X-WR-TIMEZONE:Europe/Athens
BEGIN:VEVENT
UID:https://safe.kinimatorama.net/event/189839
DTSTAMP:20260424T110000Z
DESCRIPTION:περισσότερες πληροφορίες: https://safe.kinimatorama.net/event/1
 89839 
DTSTART:20260424T110000Z
DTEND:20260424T120000Z
GEO:+41.114401;+25.399275
LOCATION:Κομοτηνή\, \nΠαλιά Νομική
SUMMARY:Αντιπολεμική συγκέντρωση
URL:https://safe.kinimatorama.net/event/189839
END:VEVENT
END:VCALENDAR
