BEGIN:VCALENDAR
VERSION:2.0
PRODID:-//demosphere.net//NONSGML kigkonsult.se iCalcreator 2.22.1//
METHOD:REQUEST
X-WR-TIMEZONE:Europe/Athens
BEGIN:VEVENT
UID:https://safe.kinimatorama.net/event/189841
DTSTAMP:20260425T183000Z
DESCRIPTION:περισσότερες πληροφορίες: https://safe.kinimatorama.net/event/1
 89841 
DTSTART:20260425T183000Z
DTEND:20260425T193000Z
GEO:+40.608368;+22.968406
LOCATION:Θεσσαλονίκη\, \nΚοινωνικό Κέντρο Αγώνα Τούμπας \nΣτέκι Προοδευτική
 ς Έκρηξης Τούμπας \n(κατάληψη Σινιόσογλου 22\, Κάτω Τούμπα) \nλεωφορεία 10
 \,58: στάση 'Γραφεία ΟΑΣΘ' \nλεωφορείο 11: στάση 'Μπότσαρη'
SUMMARY:Εκρηκτικό Fem/Queer Bar για ιατρικά έξοδα
URL:https://safe.kinimatorama.net/event/189841
END:VEVENT
END:VCALENDAR
