BEGIN:VCALENDAR
VERSION:2.0
PRODID:-//demosphere.net//NONSGML kigkonsult.se iCalcreator 2.22.1//
METHOD:REQUEST
X-WR-TIMEZONE:Europe/Athens
BEGIN:VEVENT
UID:https://safe.kinimatorama.net/event/189855
DTSTAMP:20260428T170000Z
DESCRIPTION:περισσότερες πληροφορίες: https://safe.kinimatorama.net/event/1
 89855 
DTSTART:20260428T170000Z
DTEND:20260428T180000Z
GEO:+40.6391;+22.940668
LOCATION:Θεσσαλονίκη\, \nΚοινωνικό Κέντρο Ovradera \nΕπισκόπου Αμβροσίου 14
  \nπεριοχή Αντιγονιδών
SUMMARY:Καφενείο γνωριμίας με τη συλλογικότητα + μπαρ
URL:https://safe.kinimatorama.net/event/189855
END:VEVENT
END:VCALENDAR
