BEGIN:VCALENDAR
VERSION:2.0
PRODID:-//demosphere.net//NONSGML kigkonsult.se iCalcreator 2.22.1//
METHOD:REQUEST
X-WR-TIMEZONE:Europe/Athens
BEGIN:VEVENT
UID:https://safe.kinimatorama.net/event/189911
DTSTAMP:20260507T120000Z
DESCRIPTION:περισσότερες πληροφορίες: https://safe.kinimatorama.net/event/1
 89911 
DTSTART:20260507T120000Z
DTEND:20260507T130000Z
GEO:+37.96187;+23.690096
LOCATION:Αγ.Ι.Ρέντης\, \nΑνώτατη Σχολή Καλών Τεχνών (ΑΣΚΤ) \nΠειραιώς 256 
 \n(λεωφορεία 049\, 914 \n5' περπάτημα από σταθμό ΗΣΑΠ ΚΑΛΛΙΘΕΑ)
SUMMARY:Ανοιχτή συζήτηση: Τέχνη\, Θεσμοί\, και εμείς ως πολιτικά υποκείμενα
URL:https://safe.kinimatorama.net/event/189911
END:VEVENT
END:VCALENDAR
