BEGIN:VCALENDAR
VERSION:2.0
PRODID:-//demosphere.net//NONSGML kigkonsult.se iCalcreator 2.22.1//
METHOD:REQUEST
X-WR-TIMEZONE:Europe/Athens
BEGIN:VEVENT
UID:https://safe.kinimatorama.net/event/45750
DTSTAMP:20141203T130000Z
DESCRIPTION:περισσότερες πληροφορίες: https://safe.kinimatorama.net/event/4
 5750 
DTSTART:20141203T130000Z
DTEND:20141203T140000Z
GEO:+35.512376;+24.019161
LOCATION:Χανιά\, \nδημαρχείο Χανίων \nΚυδωνίας 29
SUMMARY:Μαζική παράσταση στο δημοτικό συμβούλιο\, σε αλληλεγγύη στο Νίκο Ρω
 μανό
URL:https://safe.kinimatorama.net/event/45750
END:VEVENT
END:VCALENDAR
