BEGIN:VCALENDAR
VERSION:2.0
PRODID:-//demosphere.net//NONSGML kigkonsult.se iCalcreator 2.22.1//
METHOD:REQUEST
X-WR-TIMEZONE:Europe/Athens
BEGIN:VEVENT
UID:https://safe.kinimatorama.net/event/46171
DTSTAMP:20141208T170000Z
DESCRIPTION:περισσότερες πληροφορίες: https://safe.kinimatorama.net/event/4
 6171 
DTSTART:20141208T170000Z
DTEND:20141208T180000Z
GEO:+35.512376;+24.019161
LOCATION:Χανιά\, \nδημαρχείο Χανίων \nΚυδωνίας 29
SUMMARY:Προβολή&συζήτηση για την κοινωνική ληστεία & την απεργία πείνας στι
 ς φυλακές το 08
URL:https://safe.kinimatorama.net/event/46171
END:VEVENT
END:VCALENDAR
