BEGIN:VCALENDAR
VERSION:2.0
PRODID:-//demosphere.net//NONSGML kigkonsult.se iCalcreator 2.22.1//
METHOD:REQUEST
X-WR-TIMEZONE:Europe/Athens
BEGIN:VEVENT
UID:https://safe.kinimatorama.net/event/50392
DTSTAMP:20150401T180000Z
DESCRIPTION:περισσότερες πληροφορίες: https://safe.kinimatorama.net/event/5
 0392 
DTSTART:20150401T180000Z
DTEND:20150401T190000Z
GEO:+35.512376;+24.019161
LOCATION:Χανιά\, \nδημαρχείο Χανίων \nΚυδωνίας 29
SUMMARY:Εκδήλωση για τη φασιστική δολοφονική επίθεση στα Χανιά
URL:https://safe.kinimatorama.net/event/50392
END:VEVENT
END:VCALENDAR
