BEGIN:VCALENDAR
VERSION:2.0
PRODID:-//demosphere.net//NONSGML kigkonsult.se iCalcreator 2.22.1//
METHOD:REQUEST
X-WR-TIMEZONE:Europe/Athens
BEGIN:VEVENT
UID:https://safe.kinimatorama.net/event/50577
DTSTAMP:20150406T003300Z
DESCRIPTION:περισσότερες πληροφορίες: https://safe.kinimatorama.net/event/5
 0577 
DTSTART;VALUE=DATE:20150406
GEO:+35.512376;+24.019161
LOCATION:Χανιά\, \nδημαρχείο Χανίων \nΚυδωνίας 29
SUMMARY:Κατάληψη Δημαρχείου Χανίων
URL:https://safe.kinimatorama.net/event/50577
END:VEVENT
END:VCALENDAR
