BEGIN:VCALENDAR
VERSION:2.0
PRODID:-//demosphere.net//NONSGML kigkonsult.se iCalcreator 2.22.1//
METHOD:REQUEST
X-WR-TIMEZONE:Europe/Athens
BEGIN:VEVENT
UID:https://safe.kinimatorama.net/event/53550
DTSTAMP:20150626T173000Z
DESCRIPTION:περισσότερες πληροφορίες: https://safe.kinimatorama.net/event/5
 3550 
DTSTART:20150626T173000Z
DTEND:20150626T183000Z
GEO:+38.039497;+23.688844
LOCATION:Πετρούπολη\, \nΠλατεία Ηρώ \nΛεωφορεία 700\,Α11\,Β11 (στάση ΔΗΜΑΡΧ
 ΕΙΟ)
SUMMARY:Οκτάνα: Όλοι οι λαοί\, μια γιορτή
URL:https://safe.kinimatorama.net/event/53550
END:VEVENT
END:VCALENDAR
