BEGIN:VCALENDAR
VERSION:2.0
PRODID:-//demosphere.net//NONSGML kigkonsult.se iCalcreator 2.22.1//
METHOD:REQUEST
X-WR-TIMEZONE:Europe/Athens
BEGIN:VEVENT
UID:https://safe.kinimatorama.net/event/58576
DTSTAMP:20151115T090000Z
DESCRIPTION:περισσότερες πληροφορίες: https://safe.kinimatorama.net/event/5
 8576 
DTSTART:20151115T090000Z
DTEND:20151115T100000Z
GEO:+38.039497;+23.688844
LOCATION:Πετρούπολη\, \nΠλατεία Ηρώ \nΛεωφορεία 700\,Α11\,Β11 (στάση ΔΗΜΑΡΧ
 ΕΙΟ)
SUMMARY:Εργαστήρι ελευθερίας και δημοκρατίας: Μπαμπά\, ελευθερία τι σημαίνε
 ι\;
URL:https://safe.kinimatorama.net/event/58576
END:VEVENT
END:VCALENDAR
