BEGIN:VCALENDAR
VERSION:2.0
PRODID:-//demosphere.net//NONSGML kigkonsult.se iCalcreator 2.22.1//
METHOD:REQUEST
X-WR-TIMEZONE:Europe/Athens
BEGIN:VEVENT
UID:https://safe.kinimatorama.net/event/61101
DTSTAMP:20160112T083000Z
DESCRIPTION:περισσότερες πληροφορίες: https://safe.kinimatorama.net/event/6
 1101 
DTSTART:20160112T083000Z
DTEND:20160112T093000Z
GEO:+40.628824;+22.946413
LOCATION:Θεσσαλονίκη\, \nΕπιθεώρηση Εργασίας Θεσσαλονίκης \nΠροξένου Κορομη
 λά 51
SUMMARY:(AΚΥΡΩΝΕΤΑΙ) Παρέμβαση ενάντια σε απολύσεις
URL:https://safe.kinimatorama.net/event/61101
END:VEVENT
END:VCALENDAR
