BEGIN:VCALENDAR
VERSION:2.0
PRODID:-//demosphere.net//NONSGML kigkonsult.se iCalcreator 2.22.1//
METHOD:REQUEST
X-WR-TIMEZONE:Europe/Athens
BEGIN:VEVENT
UID:https://safe.kinimatorama.net/event/75093
DTSTAMP:20161126T080000Z
DESCRIPTION:περισσότερες πληροφορίες: https://safe.kinimatorama.net/event/7
 5093 
DTSTART:20161126T080000Z
DTEND:20161126T090000Z
GEO:+37.986125;+23.721851
LOCATION:Αθήνα\, \nΠΟΕ ΟΤΑ \nΚαρόλου 24 \n(Πλατεία Καραϊσκάκη) \n(Μετρό Μετ
 αξουργείο)
SUMMARY:3η Πανελλαδική Συνάντηση κινημάτων και συλλογικοτήτων νερού
URL:https://safe.kinimatorama.net/event/75093
END:VEVENT
END:VCALENDAR
