BEGIN:VCALENDAR
VERSION:2.0
PRODID:-//demosphere.net//NONSGML kigkonsult.se iCalcreator 2.22.1//
METHOD:REQUEST
X-WR-TIMEZONE:Europe/Athens
BEGIN:VEVENT
UID:https://safe.kinimatorama.net/event/77461
DTSTAMP:20170127T163000Z
DESCRIPTION:περισσότερες πληροφορίες: https://safe.kinimatorama.net/event/7
 7461 
DTSTART:20170127T163000Z
DTEND:20170127T173000Z
GEO:+37.986125;+23.721851
LOCATION:Αθήνα\, \nΠΟΕ ΟΤΑ \nΚαρόλου 24 \n(Πλατεία Καραϊσκάκη) \n(Μετρό Μετ
 αξουργείο)
SUMMARY:Ανοιχτή συζήτηση
URL:https://safe.kinimatorama.net/event/77461
END:VEVENT
END:VCALENDAR
