BEGIN:VCALENDAR
VERSION:2.0
PRODID:-//demosphere.net//NONSGML kigkonsult.se iCalcreator 2.22.1//
METHOD:REQUEST
X-WR-TIMEZONE:Europe/Athens
BEGIN:VEVENT
UID:https://safe.kinimatorama.net/event/79349
DTSTAMP:20170305T090000Z
DESCRIPTION:περισσότερες πληροφορίες: https://safe.kinimatorama.net/event/7
 9349 
DTSTART:20170305T090000Z
DTEND:20170305T100000Z
GEO:+37.986125;+23.721851
LOCATION:Αθήνα\, \nΠΟΕ ΟΤΑ \nΚαρόλου 24 \n(Πλατεία Καραϊσκάκη) \n(Μετρό Μετ
 αξουργείο)
SUMMARY:Συνέλευση Συντονισμού για το Προσφυγικό
URL:https://safe.kinimatorama.net/event/79349
END:VEVENT
END:VCALENDAR
