BEGIN:VCALENDAR
VERSION:2.0
PRODID:-//demosphere.net//NONSGML kigkonsult.se iCalcreator 2.22.1//
METHOD:REQUEST
X-WR-TIMEZONE:Europe/Athens
BEGIN:VEVENT
UID:https://safe.kinimatorama.net/event/80731
DTSTAMP:20170319T101500Z
DESCRIPTION:περισσότερες πληροφορίες: https://safe.kinimatorama.net/event/8
 0731 
DTSTART:20170319T101500Z
DTEND:20170319T111500Z
GEO:+38.039497;+23.688844
LOCATION:Πετρούπολη\, \nΠλατεία Ηρώ \nΛεωφορεία 700\,Α11\,Β11 (στάση ΔΗΜΑΡΧ
 ΕΙΟ)
SUMMARY:Ποδηλατικός γύρος για το οριστικό κλείσιμο της χωματερής της Φυλής
URL:https://safe.kinimatorama.net/event/80731
END:VEVENT
END:VCALENDAR
