BEGIN:VCALENDAR
VERSION:2.0
PRODID:-//demosphere.net//NONSGML kigkonsult.se iCalcreator 2.22.1//
METHOD:REQUEST
X-WR-TIMEZONE:Europe/Athens
BEGIN:VEVENT
UID:https://safe.kinimatorama.net/event/81039
DTSTAMP:20170408T080000Z
DESCRIPTION:περισσότερες πληροφορίες: https://safe.kinimatorama.net/event/8
 1039 
DTSTART:20170408T080000Z
DTEND:20170408T090000Z
GEO:+37.986125;+23.721851
LOCATION:Αθήνα\, \nΠΟΕ ΟΤΑ \nΚαρόλου 24 \n(Πλατεία Καραϊσκάκη) \n(Μετρό Μετ
 αξουργείο)
SUMMARY:Εκδήλωση: Καλές πρακτικές και προτάσεις για τα σύγχρονα κοινωνικά π
 ροβλήματα
URL:https://safe.kinimatorama.net/event/81039
END:VEVENT
END:VCALENDAR
