BEGIN:VCALENDAR
VERSION:2.0
PRODID:-//demosphere.net//NONSGML kigkonsult.se iCalcreator 2.22.1//
METHOD:REQUEST
X-WR-TIMEZONE:Europe/Athens
BEGIN:VEVENT
UID:https://safe.kinimatorama.net/event/83701
DTSTAMP:20170523T170000Z
DESCRIPTION:περισσότερες πληροφορίες: https://safe.kinimatorama.net/event/8
 3701 
DTSTART:20170523T170000Z
DTEND:20170523T180000Z
GEO:+35.512376;+24.019161
LOCATION:Χανιά\, \nδημαρχείο Χανίων \nΚυδωνίας 29
SUMMARY:Ανοιχτή συζήτηση για την προάσπιση του δικαιώματος στη στέγαση
URL:https://safe.kinimatorama.net/event/83701
END:VEVENT
END:VCALENDAR
