BEGIN:VCALENDAR
VERSION:2.0
PRODID:-//demosphere.net//NONSGML kigkonsult.se iCalcreator 2.22.1//
METHOD:REQUEST
X-WR-TIMEZONE:Europe/Athens
BEGIN:VEVENT
UID:https://safe.kinimatorama.net/event/85474
DTSTAMP:20170629T073000Z
DESCRIPTION:περισσότερες πληροφορίες: https://safe.kinimatorama.net/event/8
 5474 
DTSTART:20170629T073000Z
DTEND:20170629T083000Z
GEO:+37.986125;+23.721851
LOCATION:Αθήνα\, \nΠΟΕ ΟΤΑ \nΚαρόλου 24 \n(Πλατεία Καραϊσκάκη) \n(Μετρό Μετ
 αξουργείο)
SUMMARY:Απεργιακή διαδήλωση
URL:https://safe.kinimatorama.net/event/85474
END:VEVENT
END:VCALENDAR
