BEGIN:VCALENDAR
VERSION:2.0
PRODID:-//demosphere.net//NONSGML kigkonsult.se iCalcreator 2.22.1//
METHOD:REQUEST
X-WR-TIMEZONE:Europe/Athens
BEGIN:VEVENT
UID:https://safe.kinimatorama.net/event/86655
DTSTAMP:20170831T140000Z
DESCRIPTION:περισσότερες πληροφορίες: https://safe.kinimatorama.net/event/8
 6655 
DTSTART:20170831T140000Z
DTEND:20170831T150000Z
GEO:+37.986125;+23.721851
LOCATION:Αθήνα\, \nΠΟΕ ΟΤΑ \nΚαρόλου 24 \n(Πλατεία Καραϊσκάκη) \n(Μετρό Μετ
 αξουργείο)
SUMMARY:Συνέλευση Συντονισμών\,Συλλογικοτήτων&Πρωτοβουλιών ενάντια στους πλ
 ειστηριασμούς
URL:https://safe.kinimatorama.net/event/86655
END:VEVENT
END:VCALENDAR
