BEGIN:VCALENDAR
VERSION:2.0
PRODID:-//demosphere.net//NONSGML kigkonsult.se iCalcreator 2.22.1//
METHOD:REQUEST
X-WR-TIMEZONE:Europe/Athens
BEGIN:VEVENT
UID:https://safe.kinimatorama.net/event/86874
DTSTAMP:20170905T070000Z
DESCRIPTION:περισσότερες πληροφορίες: https://safe.kinimatorama.net/event/8
 6874 
DTSTART:20170905T070000Z
DTEND:20170905T080000Z
GEO:+40.628824;+22.946413
LOCATION:Θεσσαλονίκη\, \nΕπιθεώρηση Εργασίας Θεσσαλονίκης \nΠροξένου Κορομη
 λά 51
SUMMARY:Παρέμβαση στην επιθεώρηση εργασίας- Σαραφιανός
URL:https://safe.kinimatorama.net/event/86874
END:VEVENT
END:VCALENDAR
