BEGIN:VCALENDAR
VERSION:2.0
PRODID:-//demosphere.net//NONSGML kigkonsult.se iCalcreator 2.22.1//
METHOD:PUBLISH
X-WR-CALNAME:kinimatorama.net
X-WR-CALDESC:ημερολόγιο από/για το κίνημα
X-WR-RELCALID:a258a24f70b70011e3307214ec9b62dc
X-WR-TIMEZONE:Europe/Athens
BEGIN:VEVENT
UID:https://safe.kinimatorama.net/event/189648
DTSTAMP:20260424T173000Z
DESCRIPTION:περισσότερες πληροφορίες: https://safe.kinimatorama.net/event/1
 89648 
DTSTART:20260424T173000Z
DTEND:20260424T183000Z
GEO:00;0
LOCATION:Ιωάννινα\, \nΑυτοδιαχειριζόμενος Κοινωνικός Χώρος Ιωαννίνων \n( ΑΚ
 ΟΙΧΙ ) \nΠλατεία Νεομάρτυρος Ιωάννη 5 \n(κάτω από το δημοτικό ωδείο)
SUMMARY:Ενημέρωση-συζήτηση: Save Prosfygika
URL:https://safe.kinimatorama.net/event/189648
END:VEVENT
END:VCALENDAR
